BEGIN:VCALENDAR
PRODID:-//eluceo/ical//2.0/EN
VERSION:2.0
CALSCALE:GREGORIAN
BEGIN:VEVENT
UID:be10503c40feabc80c5ee36f2cc597d1
DTSTAMP:20260423T092628Z
SUMMARY:PJ Library Tot Shabbat Hop
DESCRIPTION:Jewish Federation of New Hampshire\nCommunity Calendar\nhttps:/
 /jewishnh.org/community-calendar/pj-library-tot-shabbat-hop-June\n\nPJ Lib
 rary's jBaby and Early Education Initiative invite families with children 
 0-5 (siblings welcome) to celebrate Shabbat morning together.\n\nStories\,
  Singing\, and Blessings followed by a Kiddie Kiddush\n\nSpace is limited 
 and registration required!\n.......\nSaturday\, June 11th ~ 10AM\nCourtyar
 d of Temple Adath Yeshurun\, Manchester\n\nContact Dinah at dinah.berch@j
 ewishnh.org or 603-627-7679 with questions
DTSTART;TZID=America/New_York:20220611T100000
DTEND;TZID=America/New_York:20220611T104500
END:VEVENT
END:VCALENDAR
