BEGIN:VCALENDAR
PRODID:-//eluceo/ical//2.0/EN
VERSION:2.0
CALSCALE:GREGORIAN
BEGIN:VEVENT
UID:4ddb6e2aea12722a3889f9b9628af620
DTSTAMP:20260424T122616Z
SUMMARY:PJ Library Tot Shabbat Hop
DESCRIPTION:Jewish Federation of New Hampshire\nCommunity Calendar\nhttps:/
 /jewishnh.org/community-calendar/pj-library-tot-shabbat-hop-Nov2023\n\nPJ 
 Library's jBaby and Early Education Initiative invite families with childr
 en 0-5 (siblings welcome) to celebrate Shabbat morning together.\n\nStorie
 s\, Singing\, and Blessings followed by a Kiddie Kiddush\n\nRegistration r
 equested.\n.......\n\nSaturday\, November 18th ~ 10AM\nTemple Israel Manc
 hester\n\nContact Dinah at dinah.berch@jewishnh.org or 603-627-7679 with
  questions.
DTSTART;TZID=America/New_York:20231118T100000
DTEND;TZID=America/New_York:20231118T110000
END:VEVENT
END:VCALENDAR
