BEGIN:VCALENDAR
PRODID:-//eluceo/ical//2.0/EN
VERSION:2.0
CALSCALE:GREGORIAN
BEGIN:VEVENT
UID:07e281d8872b758746705a6caea8366b
DTSTAMP:20260423T084258Z
SUMMARY:PJ Library Tot Shabbat Hop
DESCRIPTION:Jewish Federation of New Hampshire\nCommunity Calendar\nhttps:/
 /jewishnh.org/community-calendar/pj-library-tot-shabbat-hop-TBAFeb24\n\nPJ
  Library's jBaby and Early Education Initiative invite families with child
 ren 0-5 (siblings welcome) to celebrate Shabbat morning together. Each mon
 th at a different location!\n\nStories\, Singing\, and Blessings followed 
 by a Kiddie Kiddush\n\nJoin other families for a musical Shabbat morning s
 ervice will be led by cantorial soloist David Rothberg and will be followe
 d by snack and playtime.\n\n\n.......\n\nSaturday\, February 17th\, 2024 ~
  9:45AM\nTemple Beth Abraham - 4 Raymond Street\, Nash...
DTSTART;TZID=America/New_York:20240217T094500
DTEND;TZID=America/New_York:20240217T120000
END:VEVENT
END:VCALENDAR
