BEGIN:VCALENDAR
PRODID:-//eluceo/ical//2.0/EN
VERSION:2.0
CALSCALE:GREGORIAN
BEGIN:VEVENT
UID:1a8c94b86f84ebaf7afad133ec7ae54f
DTSTAMP:20260424T000010Z
SUMMARY:PJ Library Tot Shabbat Hop
DESCRIPTION:Jewish Federation of New Hampshire\nCommunity Calendar\nhttps:/
 /jewishnh.org/community-calendar/pj-library-tot-shabbat-hop-aug2023\n\nPJ 
 Library's jBaby and Early Education Initiative invite families with childr
 en 0-5 (siblings welcome) to celebrate Shabbat morning together.\n\nStorie
 s\, Singing\, and Blessings followed by a Kiddie Kiddush\n\nRegistration r
 equired.\n.......\n\nSaturday\, August 19th ~ 10AM [Rescheduled from June 
 date]\nKol Ha'Emek Upper Valley Jewish Community\n \n\nContact Dinah at 
 dinah.berch@jewishnh.org or 603-627-7679 with questions
DTSTART;TZID=America/New_York:20230819T100000
DTEND;TZID=America/New_York:20230819T110000
END:VEVENT
END:VCALENDAR
