BEGIN:VCALENDAR
PRODID:-//eluceo/ical//2.0/EN
VERSION:2.0
CALSCALE:GREGORIAN
BEGIN:VEVENT
UID:04db5e22ed56a90131ccf12185e4f80b
DTSTAMP:20260424T224638Z
SUMMARY:PJ Library Tot Shabbat Hop
DESCRIPTION:Jewish Federation of New Hampshire\nCommunity Calendar\nhttps:/
 /jewishnh.org/community-calendar/pj-library-tot-shabbat-hop-feb23\n\nPJ Li
 brary's jBaby and Early Education Initiative invite families with children
  0-5 (siblings welcome) to celebrate Shabbat morning together.\n\nStories\
 , Singing\, and Blessings followed by a Kiddie Kiddush\n\nRegistration req
 uired.\n.......\n\nSaturday\, February 11th ~ 10AM\nTemple Israel Manchest
 er  -  66 Salmon St.\, Manchester\n\nContact Dinah at dinah.berch@jewi
 shnh.org or 603-627-7679 with questions
DTSTART;TZID=America/New_York:20230211T100000
DTEND;TZID=America/New_York:20230211T110000
END:VEVENT
END:VCALENDAR
