BEGIN:VCALENDAR
PRODID:-//eluceo/ical//2.0/EN
VERSION:2.0
CALSCALE:GREGORIAN
BEGIN:VEVENT
UID:8b7d7e8b2092676cecfd4ea5f430e218
DTSTAMP:20260422T044052Z
SUMMARY:PJ Library Tot Shabbat Hop
DESCRIPTION:Jewish Federation of New Hampshire\nCommunity Calendar\nhttps:/
 /jewishnh.org/community-calendar/pj-library-tot-shabbat-hop-mar2023\n\nPJ 
 Library's jBaby and Early Education Initiative invite families with childr
 en 0-5 (siblings welcome) to celebrate Shabbat morning together.\n\nStorie
 s\, Singing\, and Blessings followed by a Kiddie Kiddush\n\nRegistration r
 equired.\n.......\n\nSaturday\, March 18th ~ 10AM\nTemple Beth Abraham - 
  4 Raymond Street\, Nashua\n \n\nContact Dinah at dinah.berch@jewishnh.
 org or 603-627-7679 with questions
DTSTART;TZID=America/New_York:20230318T100000
DTEND;TZID=America/New_York:20230318T110000
END:VEVENT
END:VCALENDAR
