BEGIN:VCALENDAR
PRODID:-//eluceo/ical//2.0/EN
VERSION:2.0
CALSCALE:GREGORIAN
BEGIN:VEVENT
UID:f1d41ef1e7de0ea3627ec12229fc2bf0
DTSTAMP:20260422T233930Z
SUMMARY:PJ Library Tot Shabbat Hop
DESCRIPTION:Jewish Federation of New Hampshire\nCommunity Calendar\nhttps:/
 /jewishnh.org/community-calendar/pj-library-tot-shabbat-nashua\n\nPJ Libra
 ry 's jBaby and Early Education Initiative invite families with children 0
 -5 (siblings welcome) to celebrate Shabbat morning together.\n\nStories\, 
 Singing\, and Blessings followed by a Kiddie Kiddush\n\nSpace is limited a
 nd registration required!\n.......\nSaturday\, July 24th ~ 9AM\nOutside o
 f Temple Beth Abraham\, Nashua\n\nContact Allyson at allyson.guertin@jewis
 hnh.org or 603-627-7679 with questions
DTSTART;TZID=America/New_York:20210724T090000
DTEND;TZID=America/New_York:20210724T110000
END:VEVENT
END:VCALENDAR
