BEGIN:VCALENDAR
PRODID:-//eluceo/ical//2.0/EN
VERSION:2.0
CALSCALE:GREGORIAN
BEGIN:VEVENT
UID:972d6bcd80671b78f68c16c84b68f2f0
DTSTAMP:20260423T233951Z
SUMMARY:PJ Our Way and Temple Beth Abraham Paint Night
DESCRIPTION:Jewish Federation of New Hampshire\nCommunity Calendar\nhttps:/
 /jewishnh.org/community-calendar/pj-our-way-and-temple-beth-abraham-paint-
 night\n\nTweens ages 8.5 - 13 are invited to join PJ Our Way and Temple Be
 th Abraham for a virtual Havdalah Tu B'Shevat Paint Night hosted by New H
 ampshire Shlicha Avia Sagron.\n\nCost is $5/kit which contains all the sup
 plies a participant need.\n\nPre-registration is required by January 17t
 h and the zoom link will be provided once your registration is received.
DTSTART;TZID=America/New_York:20210123T173000
DTEND;TZID=America/New_York:20210123T183000
END:VEVENT
END:VCALENDAR
