BEGIN:VCALENDAR
PRODID:-//eluceo/ical//2.0/EN
VERSION:2.0
CALSCALE:GREGORIAN
BEGIN:VEVENT
UID:14d113e9e602c795983799668feac4df
DTSTAMP:20260424T004957Z
SUMMARY:PJ Our Way Apple Nachos
DESCRIPTION:Jewish Federation of New Hampshire\nCommunity Calendar\nhttps:/
 /jewishnh.org/community-calendar/pj-our-way-apple-nachos\n\nJoin PJ Our Wa
 y for some New Year Fun!\n\nGet ready for the High Holidays with some fun 
 games and a create-your-own Apple Nachos bar.\n\n \n\nWhen: Sunday\, Sept
 ember 18th\, 3:30pm\nWhere: Private Home in Dover\, NH - full address sent
  after registration\nWho: Ages 9-12\nCost: free!\n\n\n \n\nFull address p
 rovided to registered guests. This event is for kids aged 9-12. Outdoors -
  please dress appropriately. In case of rain event will move indoors. Even
 t is free\; registration required by 9/14 t...
DTSTART;TZID=America/New_York:20220918T153000
DTEND;TZID=America/New_York:20220918T170000
END:VEVENT
END:VCALENDAR
