BEGIN:VCALENDAR
PRODID:-//eluceo/ical//2.0/EN
VERSION:2.0
CALSCALE:GREGORIAN
BEGIN:VEVENT
UID:20ebcfd42095003f967e0f7636444337
DTSTAMP:20260425T030752Z
SUMMARY:PJ Our Way Be A "Soup"-er Hero and Help FIght Hunger
DESCRIPTION:Jewish Federation of New Hampshire\nCommunity Calendar\nhttps:/
 /jewishnh.org/community-calendar/pj-our-way-be-a-soup-er-hero-and-help-fig
 ht-hunger\n\nCalling All Super Kids!\n\nIf you are a tween between the age
 s of 8 - 11. Join NH's PJ Our Way Leadership representative Jonas Welch fo
 r a very importan mitzvah project. Help fight hunger by creating soup kits
  that will be donated to local soup kitchen.\n\nRSVP to pjlibrary@jewishnh
 .org by May 16th.
DTSTART;TZID=America/New_York:20190519T140000
DTEND;TZID=America/New_York:20190519T160000
END:VEVENT
END:VCALENDAR
