BEGIN:VCALENDAR
PRODID:-//eluceo/ical//2.0/EN
VERSION:2.0
CALSCALE:GREGORIAN
BEGIN:VEVENT
UID:3d7f9db07ef8ee5407dfb33d0a84c79a
DTSTAMP:20260422T200554Z
SUMMARY:PJ Our Way Book Club - "Pickled Watermelon"
DESCRIPTION:Jewish Federation of New Hampshire\nCommunity Calendar\nhttps:/
 /jewishnh.org/community-calendar/pj-our-way-book-club-pickled-watermelon\n
 \nPJ Our Way Kids! \n\nJoin us on Zoom on Sunday\, February 11th at 3pm fo
 r a discussion and fun activity around the book Pickled Watermelon by Es
 ty Schacter. \n\nDiscussion and activity will be facilitated by JFNH Sha
 liach Guy Ben David. The first 10 kids to register will receive a free co
 py of the book (one book per household)\, available for pick-up at the JFN
 H office!
DTSTART;TZID=America/New_York:20240211T150000
DTEND;TZID=America/New_York:20240211T170000
END:VEVENT
END:VCALENDAR
