BEGIN:VCALENDAR
PRODID:-//eluceo/ical//2.0/EN
VERSION:2.0
CALSCALE:GREGORIAN
BEGIN:VEVENT
UID:2ce038084862ed9e3e931979b5d07084
DTSTAMP:20260422T201526Z
SUMMARY:PJ Our Way discussion with Kati Preston - Holocaust Surivor
DESCRIPTION:Jewish Federation of New Hampshire\nCommunity Calendar\nhttps:/
 /jewishnh.org/community-calendar/pj-our-way-discussion-with-kati-preston-h
 olocaust-surivor\n\nKati Preston is a New Hampshire Holocaust Survivor and
  author of the book "Holocaust to Healing: Closing the Circle". Before the
  pandemic Kati traveled to schools around the state sharing her story\, mo
 st recently with Governor Sununu in Nashua. Kati will be joining us on Zoo
 m to share her story as a child survivor in Hungary. Time will be made for
  questions and discussion.\n\nThis program is for children in grades 5-8. 
 Parents/guardians are encouraged to participate along with their child(ren
 ...
DTSTART;TZID=America/New_York:20201227T000000
DTEND;TZID=America/New_York:20201227T235959
END:VEVENT
END:VCALENDAR
