BEGIN:VCALENDAR
PRODID:-//eluceo/ical//2.0/EN
VERSION:2.0
CALSCALE:GREGORIAN
BEGIN:VEVENT
UID:7798001efe4dd3dd45fed416f33bab57
DTSTAMP:20260423T013117Z
SUMMARY:PJ Our Way DIY Candles - North Hampton
DESCRIPTION:Jewish Federation of New Hampshire\nCommunity Calendar\nhttps:/
 /jewishnh.org/community-calendar/pj-our-way-diy-candles-north-hampton\n\nP
 J Our Way kids (ages 9 -12): Join us for a fun afternoon of making our own
  Chanukah candles using recycled crayons! Games and snacks will also be pr
 ovided.\n\n\nSunday\, December 11th\, 3-4:30pm - Private Home\, North Ham
 pton\, NH (location shared upon registration)\n\nFree program | Registrati
 on required.\n\n\nContact Dinah Berch at dinah.berch@jewishnh.org with que
 stions.
DTSTART;TZID=America/New_York:20221211T150000
DTEND;TZID=America/New_York:20221211T163000
END:VEVENT
END:VCALENDAR
