BEGIN:VCALENDAR
PRODID:-//eluceo/ical//2.0/EN
VERSION:2.0
CALSCALE:GREGORIAN
BEGIN:VEVENT
UID:4fc874b4f5cb42e8874f825d2d469ec6
DTSTAMP:20260423T123501Z
SUMMARY:PJ Our Way Launch and Ice Cream Social
DESCRIPTION:Jewish Federation of New Hampshire\nCommunity Calendar\nhttps:/
 /jewishnh.org/community-calendar/pj-our-way-launch\n\nPJ Our Way programmi
 ng for children 9 - 11 is now available in New Hampshire with the expansio
 n of PJ Our Way!\n\nChildren ages 8.5 - 11 and their families are invited 
 to celebrate and help us launch this exciting new program!\n\nMake your ow
 n ice cream sundaes and learn about what PJ Our Way programming means for 
 the children in New Hampshire from PJ Our Way Coordinator\, Allyson Guerti
 n.\n\nTo officially RSVP please email pjlibrary@jewishnh.org or call 603-6
 27-7679 by October 10th \n\n*Plea...
DTSTART;TZID=America/New_York:20181014T140000
DTEND;TZID=America/New_York:20181014T160000
END:VEVENT
END:VCALENDAR
