BEGIN:VCALENDAR
PRODID:-//eluceo/ical//2.0/EN
VERSION:2.0
CALSCALE:GREGORIAN
BEGIN:VEVENT
UID:70ca5d997ae35f9f24a89c8ba86e66bd
DTSTAMP:20260424T030210Z
SUMMARY:PJ Our Way Lego Building with Shaliach Ra'anan de-Haas
DESCRIPTION:Jewish Federation of New Hampshire\nCommunity Calendar\nhttps:/
 /jewishnh.org/community-calendar/pj-our-way-lego-building-with-shaliach-ra
 anan-de-haas\n\nGet into the Hanukkah spirit with NH Shaliach Ra'anan de-H
 aas by building your own Lego Dreidel!\n\n \n\nThis program is open to ch
 ildren ages 8-12.\n\n \n\nSufganiyot and a Hanukkah goody bag for every c
 hild.\n\n \n\nIn order to properly social distance we are limiting regist
 ration. Masks are required regardless of vaccination status.\n\n \n\nThis
  program is free but pre-registration is required
DTSTART;TZID=America/New_York:20211114T150000
DTEND;TZID=America/New_York:20211114T170000
END:VEVENT
END:VCALENDAR
