BEGIN:VCALENDAR
PRODID:-//eluceo/ical//2.0/EN
VERSION:2.0
CALSCALE:GREGORIAN
BEGIN:VEVENT
UID:0fc2589e43ff882661b7cb0b8827964e
DTSTAMP:20260423T034731Z
SUMMARY:CANCELLED: PJ Our Way Pizzataschen and Lego Graggers
DESCRIPTION:Jewish Federation of New Hampshire\nCommunity Calendar\nhttps:/
 /jewishnh.org/community-calendar/pj-our-way-pizzataschen-and-lego-graggers
 \n\nTHIS EVENT HAS BEEN CANCELLED.\n\n\nCome celebrate Purim in style - wi
 th make-your-own Lego Graggers and Pizzatachen! Costumes encouraged. All p
 izzataschen ingredients and Lego supplies will be provided.\n\n\n\nSaturda
 y\, March 4th 6pm-7:30pm\nBow\, NH - private home. (Full address provided 
 to registered guests.)\nThis event is for kids aged 9-12. \n\n$5/family 
 | Registration required.\n\n\n\nContact Dinah Berch at dinah.berch@jewishn
 h.org with questions.
DTSTART;TZID=America/New_York:20230304T180000
DTEND;TZID=America/New_York:20230304T193000
END:VEVENT
END:VCALENDAR
