BEGIN:VCALENDAR
PRODID:-//eluceo/ical//2.0/EN
VERSION:2.0
CALSCALE:GREGORIAN
BEGIN:VEVENT
UID:f1b20975210e725c01d6cfa8c56152dd
DTSTAMP:20260423T045311Z
SUMMARY:PJ Parent Kvetch & Kvell
DESCRIPTION:Jewish Federation of New Hampshire\nCommunity Calendar\nhttps:/
 /jewishnh.org/community-calendar/pj-parent-kvetch-kvell\n\nJoin us on Zoom
  for a short shmooze to kvell about recent achievements (like showering) a
 nd kvetch about frustrations (why are my kids' socks all over the house? H
 OW many hamentaschen do I need to make?). Take this opportunity to sociali
 ze with other Jewish parents in New Hampshire! 
DTSTART;TZID=America/New_York:20220222T203000
DTEND;TZID=America/New_York:20220222T213000
END:VEVENT
END:VCALENDAR
