BEGIN:VCALENDAR
PRODID:-//eluceo/ical//2.0/EN
VERSION:2.0
CALSCALE:GREGORIAN
BEGIN:VEVENT
UID:cba7a5814d1575d668aeac7875c33cab
DTSTAMP:20260424T071052Z
SUMMARY:PJOW Sufganiyot Showdown
DESCRIPTION:Jewish Federation of New Hampshire\nCommunity Calendar\nhttps:/
 /jewishnh.org/community-calendar/pjow-sufganiyot-showdown\n\nThe Great Jew
 ish New Hampshire Bake-Off Presents: Sufganiyot Showdown!!!\n\nDo YOU hav
 e what it takes to be the next great Jewish baker?\n\nCompete in a series 
 of Chanukah Donut decorating challenges to win fantastic prizes! \n\nSatu
 rday\, December 2 5:30pm - 8pm with Pizza & Havdalah\n$8/individual or $10
 /family (up to five people). \n\nJFNH Office\n273 South River Road\, Unit
  5\,\nBedford\, NH  \n\nThis event is for PJ Our Way children aged 9-12 
 and PJOW-aged children may be dropped off fo...
DTSTART;TZID=America/New_York:20231202T173000
DTEND;TZID=America/New_York:20231202T200000
END:VEVENT
END:VCALENDAR
