BEGIN:VCALENDAR
PRODID:-//eluceo/ical//2.0/EN
VERSION:2.0
CALSCALE:GREGORIAN
BEGIN:VEVENT
UID:a66ba7d4fd85fd9d00182326a0baeb49
DTSTAMP:20260423T025021Z
SUMMARY:Popsicles at the Playground - Concord
DESCRIPTION:Jewish Federation of New Hampshire\nCommunity Calendar\nhttps:/
 /jewishnh.org/community-calendar/popsicles-at-the-playground-concord\n\nPJ
  Library NH invites families with children ages 2-5 (siblings welcome) to 
 meet other families with Preschool aged children and cool down with a pops
 icle treat during Popsicles at the Playground!\n.....\nSunday\, July 17th 
 ~ 10:30AM \nConcord\, NH\n\nFor security purposes the park location will 
 only be shared with those who are registered. An email will be sent to reg
 istered family Thursday\, July 14th (check your junk mail if you do not re
 ceive an email)\n\nPlease register by July 10th.\n\nEm...
DTSTART;TZID=America/New_York:20220717T103000
DTEND;TZID=America/New_York:20220717T113000
END:VEVENT
END:VCALENDAR
