BEGIN:VCALENDAR
PRODID:-//eluceo/ical//2.0/EN
VERSION:2.0
CALSCALE:GREGORIAN
BEGIN:VEVENT
UID:c000c8b43bab9e5065ab969121380172
DTSTAMP:20260422T200209Z
SUMMARY:Popsicles at the Playground - Concord
DESCRIPTION:Jewish Federation of New Hampshire\nCommunity Calendar\nhttps:/
 /jewishnh.org/community-calendar/popsicles-at-the-playground-concord-2023\
 n\nPJ Library NH invites families with children ages 2-5 (siblings welcome
 ) to meet other families with Preschool aged children and cool down with a
  popsicle treat during Popsicles at the Playground!\n.....\nSunday\, July 
 23rd ~ 10:30AM \nConcord\, NH\n\nFor security purposes the park location 
 will only be shared with those who are registered. An email will be sent t
 o registered families on Thursday\, July 20th (check your junk mail if you
  do not receive an email)\n\nEmail dinah.berch@jewishnh.org...
DTSTART;TZID=America/New_York:20230723T103000
DTEND;TZID=America/New_York:20230723T113000
END:VEVENT
END:VCALENDAR
