BEGIN:VCALENDAR
PRODID:-//eluceo/ical//2.0/EN
VERSION:2.0
CALSCALE:GREGORIAN
BEGIN:VEVENT
UID:9f163680cbcc3d75b502b0efb21f542b
DTSTAMP:20260422T222432Z
SUMMARY:Popsicles at the Playground - Portsmouth
DESCRIPTION:Jewish Federation of New Hampshire\nCommunity Calendar\nhttps:/
 /jewishnh.org/community-calendar/popsicles-at-the-playground-portsmouth\n\
 nPJ Library is teaming up with the Early Learning Center for a morning of 
 fun on the playground! We invite families with children ages 2-5 (siblings
  welcome) to meet other families with Preschool aged children and cool dow
 n with a popsicle treat during Popsicles at the Playground!\n\nJoin us for
  activities\, fun and of course a popsicle snack!\n.....\nSunday\, July 24
 th ~ 10AM \nEarly Learning Center Playground at Temple Israel\, Portsmout
 h\n200 State Street\, Portsmouth\, NH\n\nPlease register by...
DTSTART;TZID=America/New_York:20220724T100000
DTEND;TZID=America/New_York:20220724T113000
END:VEVENT
END:VCALENDAR
