BEGIN:VCALENDAR
PRODID:-//eluceo/ical//2.0/EN
VERSION:2.0
CALSCALE:GREGORIAN
BEGIN:VEVENT
UID:46fba5029b17e2656bb2e3cc41e8dd0d
DTSTAMP:20260422T231853Z
SUMMARY:Popsicles at the Playground - Portsmouth
DESCRIPTION:Jewish Federation of New Hampshire\nCommunity Calendar\nhttps:/
 /jewishnh.org/community-calendar/popsicles-at-the-playground-portsmouth-20
 23\n\nPJ Library is teaming up with the Early Learning Center for a mornin
 g of fun on the playground! We invite families with children ages 2-5 (sib
 lings welcome) to meet other families with Preschool aged children and coo
 l down with a popsicle treat during Popsicles at the Playground!\n\nJoin u
 s for activities\, fun and of course a popsicle snack!\n.....\nSunday\, Ju
 ly 16th ~ 10:30AM \nEarly Learning Center Playground at Temple Israel\, P
 ortsmouth\n200 State Street\, Portsmouth\, NH\n\nFree program\, r...
DTSTART;TZID=America/New_York:20230716T103000
DTEND;TZID=America/New_York:20230716T113000
END:VEVENT
END:VCALENDAR
