BEGIN:VCALENDAR
PRODID:-//eluceo/ical//2.0/EN
VERSION:2.0
CALSCALE:GREGORIAN
BEGIN:VEVENT
UID:1f34f024100036adbce1838e4e2eb464
DTSTAMP:20260423T140620Z
SUMMARY:Popsicles on the Playground
DESCRIPTION:Jewish Federation of New Hampshire\nCommunity Calendar\nhttps:/
 /jewishnh.org/community-calendar/popsicles-on-the-playground\n\nPJ Library
  is headed back to the Seacoast and teaming up for the second year with th
 e Early Learning Center for a morning of fun on the playground!\n\nJoin us
  for activities\, fun and of course a popsicle snack!\n\nSpace is limited 
 so please RSVP to pjlibrary@jewishnh.org by June 19th.
DTSTART;TZID=America/New_York:20190623T103000
DTEND;TZID=America/New_York:20190623T120000
END:VEVENT
END:VCALENDAR
