BEGIN:VCALENDAR
PRODID:-//eluceo/ical//2.0/EN
VERSION:2.0
CALSCALE:GREGORIAN
BEGIN:VEVENT
UID:8002c46a994975e1bb8c4c21bad97501
DTSTAMP:20260425T133808Z
SUMMARY:PJ Library Popsicles on the Playground - Manchester
DESCRIPTION:Jewish Federation of New Hampshire\nCommunity Calendar\nhttps:/
 /jewishnh.org/community-calendar/popsicles-on-the-playground-manchester\n\
 nPJ Library is headed back to the Jewish Federation Preschool in Mancheste
 r for the third year of fun on the playground!\n\nJoin us for activities\,
  fun and of course a popsicle snack!\n\nSpace is limited so please registe
 r by August 22nd.
DTSTART;TZID=America/New_York:20190825T103000
DTEND;TZID=America/New_York:20190825T120000
END:VEVENT
END:VCALENDAR
