BEGIN:VCALENDAR
PRODID:-//eluceo/ical//2.0/EN
VERSION:2.0
CALSCALE:GREGORIAN
BEGIN:VEVENT
UID:b8d99c4d666fbb9120611f4bd8aa7e76
DTSTAMP:20260423T073159Z
SUMMARY:Post Film Discussion from JFNH's Israel Education and Engagement Co
 mmittee
DESCRIPTION:Jewish Federation of New Hampshire\nCommunity Calendar\nhttps:/
 /jewishnh.org/community-calendar/post-film-discussion-from-jfnhs-israel-ed
 ucation-and-engagement-committee\n\nThis will be a hybrid program availabl
 e both in person at the JFNH office and on zoom.\n\nMore information comi
 ng soon
DTSTART;TZID=America/New_York:20221120T150000
DTEND;TZID=America/New_York:20221120T170000
END:VEVENT
END:VCALENDAR
