BEGIN:VCALENDAR
PRODID:-//eluceo/ical//2.0/EN
VERSION:2.0
CALSCALE:GREGORIAN
BEGIN:VEVENT
UID:f33405c1e2b110cfbf2541991973ef29
DTSTAMP:20260422T143847Z
SUMMARY:Spotlight on Israel\, post film discussion - Beneath the Helmet
DESCRIPTION:Jewish Federation of New Hampshire\nCommunity Calendar\nhttps:/
 /jewishnh.org/community-calendar/post-film-discussion-with\n\nSpotlight on
  Israel Film Series\n\n The Spotlight on Israel Film Series is being pr
 esented by the Jewish Federation of New Hampshire Israel Education and Eng
 agement Committee.\n\nRegister today for this FREE Israel Film Series - a
 t https://lp.constantcontactpages.com/su/lAmDgYO/israel or by phone (60
 3)627-7679 through the Jewish Federation Office\,  \n\nBeneath the Helme
 t: From High School to the Home Front\nThursday\, November 12\, 6 PM\n\nP
 ost film discussion  Sunday\, November 15 ~ ...
DTSTART;TZID=America/New_York:20201115T150000
DTEND;TZID=America/New_York:20201115T170000
END:VEVENT
END:VCALENDAR
