BEGIN:VCALENDAR
PRODID:-//eluceo/ical//2.0/EN
VERSION:2.0
CALSCALE:GREGORIAN
BEGIN:VEVENT
UID:f24d23baf50908ad440fe4d96fad9500
DTSTAMP:20260422T100055Z
SUMMARY:Spotlight on Israel\, Post Film Discussion - Israel Inside
DESCRIPTION:Jewish Federation of New Hampshire\nCommunity Calendar\nhttps:/
 /jewishnh.org/community-calendar/post-film-discussion-with-jfnh-israel-eng
 agement-committee1\n\nSpotlight on Israel Film Series\n\n The Spotlight o
 n Israel Film Series is being presented by the Jewish Federation of New 
 Hampshire Israel Education and Engagement Committee.\n\nRegister today for
  this FREE Israel Film Series - at https://lp.constantcontactpages.com/s
 u/lAmDgYO/israel or by phone (603)627-7679 through the Jewish Federation
  Office\,  \n\nIsrael Inside: How a Small Nation Makes a Big Difference\
 nThursday\, December 17\, 6 PM\n\nPost film discussion /time scheduled TB
 A\, ...
DTSTART;TZID=America/New_York:20201220T190000
DTEND;TZID=America/New_York:20201220T210000
END:VEVENT
END:VCALENDAR
