BEGIN:VCALENDAR
PRODID:-//eluceo/ical//2.0/EN
VERSION:2.0
CALSCALE:GREGORIAN
BEGIN:VEVENT
UID:f584121fece3babdfc9937cde63fa14f
DTSTAMP:20260423T091756Z
SUMMARY:Pot Luck Dinner and Winter Get Together at Betenu
DESCRIPTION:Jewish Federation of New Hampshire\nCommunity Calendar\nhttps:/
 /jewishnh.org/community-calendar/pot-luck-dinner-and-winter-get-together-1
 574622658\n\nKick off winter with a Pot-Luck Dinner\, latkes included\, fo
 llowed by a family service led by Rav Sam.
DTSTART;TZID=America/New_York:20191213T183000
DTEND;TZID=America/New_York:20191213T203000
END:VEVENT
END:VCALENDAR
