BEGIN:VCALENDAR
PRODID:-//eluceo/ical//2.0/EN
VERSION:2.0
CALSCALE:GREGORIAN
BEGIN:VEVENT
UID:057a7fefcab798c491715a1447853580
DTSTAMP:20260423T072433Z
SUMMARY:Pre-Chanukah Cocktail Mocktail Party
DESCRIPTION:Jewish Federation of New Hampshire\nCommunity Calendar\nhttps:/
 /jewishnh.org/community-calendar/pre-chanukah-cocktail-mocktail-party-1575
 321944\n\nJoin us for a Cocktails and Mocktails Pre-Chanukah party!Th Mira
 cle of Business by *Mr Ira BlumethalJewishSeacoast.com/Cocktail Seacoast J
 ewish Center 72-1 Main Street  Durham\, NH 03824Thursday\, December 5th | 
 7:00 PMCouvert: $15 pp | Students Free*Mr. Ira E. Blumenthal is a lawyer a
 nd entrepreneur. He has represented some of the biggest land purchases in 
 Thailand\, and some of the biggest Israeli companies doing business in Asi
 a. Ira’s industry experience covers automotive\, chemicals\, miner...
DTSTART;TZID=America/New_York:20191205T190000
DTEND;TZID=America/New_York:20191205T203000
END:VEVENT
END:VCALENDAR
