BEGIN:VCALENDAR
PRODID:-//eluceo/ical//2.0/EN
VERSION:2.0
CALSCALE:GREGORIAN
BEGIN:VEVENT
UID:a9300e61d8b27efde92037ee0d8cbded
DTSTAMP:20260423T194405Z
SUMMARY:Temple Beth Abraham Pre-Chanukkah Party
DESCRIPTION:Jewish Federation of New Hampshire\nCommunity Calendar\nhttps:/
 /jewishnh.org/community-calendar/pre-chanukkah-party-1574877203\n\nTemple 
 Beth Abraham's Pre-Chanukkah Party!\n\nDeli & latkes\nGluten-free & Vegeta
 rian options\nSalads & Desserts\, Sara's Sufganiyot\n\nCrafts for children
  led by Jessie Mocle\nMusic by TBA Zimria Choir\nSing-along with the Raymo
 nd Street Klezmer Band\nDreidel tournament\n.... and more!\n\nThere will N
 OT be a menorah lighting as teh party is prior to Chanukkah.\n\nAdults 13 
 and up: $15\nChildren 4-12: $8\nChildren 3 and under: Free!\n\nReservation
 s are needed by THURSDAY\, DECEMBER 12\n\nPlease...
DTSTART;TZID=America/New_York:20191219T180000
DTEND;TZID=America/New_York:20191219T193000
END:VEVENT
END:VCALENDAR
