BEGIN:VCALENDAR
PRODID:-//eluceo/ical//2.0/EN
VERSION:2.0
CALSCALE:GREGORIAN
BEGIN:VEVENT
UID:1dc519d88e99da5d11bee74768b1009d
DTSTAMP:20260424T160057Z
SUMMARY:Preschool Open House @ Temple Israel Portsmouth
DESCRIPTION:Jewish Federation of New Hampshire\nCommunity Calendar\nhttps:/
 /jewishnh.org/community-calendar/preschool-open-house-1554316587\n\nCome a
 nd tour our preschool\, meet the teachers\, inquire about our week of summ
 er camp in July and registration for the fall 2019- 2020 school year.  If 
 you have children\, grandchildren\, friends\, neighbors  in the seacoast N
 H area with children 2.9 months to 6 years\, please join us April 9th for 
 our Open House.
DTSTART;TZID=America/New_York:20190409T173000
DTEND;TZID=America/New_York:20190409T193000
END:VEVENT
END:VCALENDAR
