BEGIN:VCALENDAR
PRODID:-//eluceo/ical//2.0/EN
VERSION:2.0
CALSCALE:GREGORIAN
BEGIN:VEVENT
UID:fd2fe544a2df37bcc344814974fc44bf
DTSTAMP:20260423T234508Z
SUMMARY:Pride Shabbat at Temple Israel Portsmouth
DESCRIPTION:Jewish Federation of New Hampshire\nCommunity Calendar\nhttps:/
 /jewishnh.org/community-calendar/pride-shabbat-at-temple-israel-portsmouth
 -1689015337\n\nPlease join Temple Israel Portsmouth for a special Kabbalat
  Shabbat service led by Rabba Kaya Stern-Kaufman\, with guest speakers\, g
 uest musicians\, and Pride themes. All are welcome!
DTSTART;TZID=America/New_York:20230811T183000
DTEND;TZID=America/New_York:20230811T193000
END:VEVENT
END:VCALENDAR
