BEGIN:VCALENDAR
PRODID:-//eluceo/ical//2.0/EN
VERSION:2.0
CALSCALE:GREGORIAN
BEGIN:VEVENT
UID:ad43fe24763e2cd30a5731a293885244
DTSTAMP:20260422T224430Z
SUMMARY:PUBLIC MENORAH LIGHTING
DESCRIPTION:Jewish Federation of New Hampshire\nCommunity Calendar\nhttps:/
 /jewishnh.org/community-calendar/public-menorah-lighting-1636736853\n\nA s
 mall amount of light pushes away the darkness! The light of the menorah ca
 rries the message that we must put our effort into bringing light into thi
 s world by increasing in love and kindness. During these times this messag
 e is more relevant than ever\, we must bring more light into the world.\nO
 n the fifth night of Chanukah join together as we gather in unity to light
  the menorah!\n-Menorah lighting\n-Traditional Chanukah Foods\nThursday\, 
 November 28th | 5:00 PM\nDowntown Durham\nFun for th...
DTSTART;TZID=America/New_York:20211128T170000
DTEND;TZID=America/New_York:20211128T180000
END:VEVENT
END:VCALENDAR
