BEGIN:VCALENDAR
PRODID:-//eluceo/ical//2.0/EN
VERSION:2.0
CALSCALE:GREGORIAN
BEGIN:VEVENT
UID:ff103ef5c4c9482650ab3c6fdbf5ceb4
DTSTAMP:20260424T015953Z
SUMMARY:Purim
DESCRIPTION:Jewish Federation of New Hampshire\nCommunity Calendar\nhttps:/
 /jewishnh.org/community-calendar/purim\n\nJewish holiday of Purim\, begin
 s at sundown on 16-Mar-2022 and ends at nightfall on 17-Mar-2022. Celebra
 tion of Jewish deliverance as told by Megilat Esther.
DTSTART;TZID=America/New_York:20220316T000000
DTEND;TZID=America/New_York:20220317T000000
END:VEVENT
END:VCALENDAR
