BEGIN:VCALENDAR
PRODID:-//eluceo/ical//2.0/EN
VERSION:2.0
CALSCALE:GREGORIAN
BEGIN:VEVENT
UID:53cbf2f5e685f106f4acc58f4d11c625
DTSTAMP:20260423T165639Z
SUMMARY:Purim 2023
DESCRIPTION:Jewish Federation of New Hampshire\nCommunity Calendar\nhttps:/
 /jewishnh.org/community-calendar/purim-2023\n\nPurim 2023: March 6-March 7
DTSTART;TZID=America/New_York:20230306T000000
DTEND;TZID=America/New_York:20230307T235959
END:VEVENT
END:VCALENDAR
