BEGIN:VCALENDAR
PRODID:-//eluceo/ical//2.0/EN
VERSION:2.0
CALSCALE:GREGORIAN
BEGIN:VEVENT
UID:827a938d9376a315ea9b071c4666a373
DTSTAMP:20260423T160300Z
SUMMARY:Purim and Pretend with PJ Library
DESCRIPTION:Jewish Federation of New Hampshire\nCommunity Calendar\nhttps:/
 /jewishnh.org/community-calendar/purim-and-pretend-with-pj-library\n\nJoin
  PJ Library - New Hampshire\, Little Village Toy & Book Shop and Bethlehem
  Hebrew Congregation for a fun and festive Purim program! Make you own mas
 ks and participate in Purim storytelling. Come in costume and enjoy the fu
 n!\n\nThis program has fun for children ages 0-11 and their families.\n\nY
 ou do not need to be a PJ Library subscriber to attend but space is limite
 d! To register email pjlibrary@jewishnh.org by March 6th.
DTSTART;TZID=America/New_York:20190310T140000
DTEND;TZID=America/New_York:20190310T160000
END:VEVENT
END:VCALENDAR
