BEGIN:VCALENDAR
PRODID:-//eluceo/ical//2.0/EN
VERSION:2.0
CALSCALE:GREGORIAN
BEGIN:VEVENT
UID:2b481881691d200ca27472fd973158f5
DTSTAMP:20260423T155615Z
SUMMARY:Purim Carnival & Megillah Reading
DESCRIPTION:Jewish Federation of New Hampshire\nCommunity Calendar\nhttps:/
 /jewishnh.org/community-calendar/purim-carnival--megillah-reading-16758809
 73\n\nPlease join Temple Israel Portsmouth for an evening of games\, prize
 s\, music\, food\, and fun! Come for the carnival\, stay for the Megillah 
 reading\, and don't forget your costume! Register on the website calendar\
 , https://templeisraelnh.shulcloud.com/event/purim-carnival-and-megillah-r
 eading.html\n\n4:00 pm - 5:30 pm\, Purim Carnival in the Social Hall\n\n5:
 30 pm - 6:00 pm\, Pizza & Salad in the Social Hall and Shmooze\n\n6:00 pm 
 - 7:30 pm\, Megillah Reading and Purim Shpiel in the Sanctuary
DTSTART;TZID=America/New_York:20230306T161500
DTEND;TZID=America/New_York:20230306T193000
END:VEVENT
END:VCALENDAR
