BEGIN:VCALENDAR
PRODID:-//eluceo/ical//2.0/EN
VERSION:2.0
CALSCALE:GREGORIAN
BEGIN:VEVENT
UID:bab7e008709bf66faf76748f25f962c0
DTSTAMP:20260423T012623Z
SUMMARY:TBA Purim Carnival
DESCRIPTION:Jewish Federation of New Hampshire\nCommunity Calendar\nhttps:/
 /jewishnh.org/community-calendar/purim-carnival-1551467705\n\nJoin us and 
 enjoy...\n- Playing games and winning prizes!\n- Lots of booths for every 
 age!\n- USY Escape Room!\n- The four P's of food! Pickles\, Pizza\, Popcor
 n\, and Pretzels!\n\nThere will also be hanataschen for sale and you will 
 be able to purchase Purim baskets!\n\nTickets for games and food are 25 ce
 nts each.\n\nBring anyone you know!\nMake sure to come in costume!
DTSTART;TZID=America/New_York:20190317T100000
DTEND;TZID=America/New_York:20190317T120000
END:VEVENT
END:VCALENDAR
