BEGIN:VCALENDAR
PRODID:-//eluceo/ical//2.0/EN
VERSION:2.0
CALSCALE:GREGORIAN
BEGIN:VEVENT
UID:666bc89d10939203298df2b281500bf3
DTSTAMP:20260424T005131Z
SUMMARY:Temple Beth Abraham Purim Carnival
DESCRIPTION:Jewish Federation of New Hampshire\nCommunity Calendar\nhttps:/
 /jewishnh.org/community-calendar/purim-carnival-1581445502\n\nJoin us and 
 enjoy…\nMembers of Boston-based hoop troupe Sacred Circle Siblings perfo
 rm as we celebrate the Purim holiday!\nPlaying games and winning prizes!\n
 Lots of booths for every age!\nSnacks!\n\nThere will also be hamantaschen 
 for sale and you will be able to purchase Purim baskets!\n\nFree Admission
 \n\n25¢ tickets available for purchase in the synagogue lobby.\n\nTickets
  are good for playing games\, and buying food and drink!\n\nBuy lots of ti
 ckets\, eat lots of food\, and have lots of ...
DTSTART;TZID=America/New_York:20200315T100000
DTEND;TZID=America/New_York:20200315T123000
END:VEVENT
END:VCALENDAR
