BEGIN:VCALENDAR
PRODID:-//eluceo/ical//2.0/EN
VERSION:2.0
CALSCALE:GREGORIAN
BEGIN:VEVENT
UID:8c99151a2639d69e6a74ecb5737a15bb
DTSTAMP:20260422T215257Z
SUMMARY:Purim Celebration at Bethleham Hebrew Congregation
DESCRIPTION:Jewish Federation of New Hampshire\nCommunity Calendar\nhttps:/
 /jewishnh.org/community-calendar/purim-celebration-at-bethleham-congregati
 on\n\nEnjoy a New Purim Spiel! Potluck Luncheon\, Music and Family Fun in 
 the BHC Social Hall!
DTSTART;TZID=America/New_York:20190324T120000
DTEND;TZID=America/New_York:20190324T150000
END:VEVENT
END:VCALENDAR
