BEGIN:VCALENDAR
PRODID:-//eluceo/ical//2.0/EN
VERSION:2.0
CALSCALE:GREGORIAN
BEGIN:VEVENT
UID:741c5dc47aee9c64ff23c05cc0a6e507
DTSTAMP:20260423T231855Z
SUMMARY:Purim Comedy Night
DESCRIPTION:Jewish Federation of New Hampshire\nCommunity Calendar\nhttps:/
 /jewishnh.org/community-calendar/purim-comedy-night-1646237468\n\nJoin us 
 for a Purim Comedy Night featuring the famous Juston McKinney !\nWe are so
  excited to celebrate Purim together
DTSTART;TZID=America/New_York:20220316T191500
DTEND;TZID=America/New_York:20220316T211500
END:VEVENT
END:VCALENDAR
