BEGIN:VCALENDAR
PRODID:-//eluceo/ical//2.0/EN
VERSION:2.0
CALSCALE:GREGORIAN
BEGIN:VEVENT
UID:cdb054a87517c538f99490730b3983a8
DTSTAMP:20260424T120409Z
SUMMARY:Seacoast Jewish Center presents Purim Comedy Night
DESCRIPTION:Jewish Federation of New Hampshire\nCommunity Calendar\nhttps:/
 /jewishnh.org/community-calendar/purim-comedy-night-1675152695\n\nJoin us 
 for a Purim Comedy Night featuring the famous DAN CROHN !\nWe are so excit
 ed to celebrate Purim together. To get into the Purim spirit\, please come
  in your best costume!\nYOU DONT WANT TO MISS THIS!\nAdults only!\nOPEN BA
 R! DINNER BUFFET!!\nAt the North Country Hard Cider in Dover!\nMonday Marc
 h 6th 7pm\n\nEARY BIRD SPECIAL ENDS FEB 15th\nRegister today at JEWISHSEAC
 OAST.COM/COMEDY
DTSTART;TZID=America/New_York:20230306T190000
DTEND;TZID=America/New_York:20230306T210000
END:VEVENT
END:VCALENDAR
