BEGIN:VCALENDAR
PRODID:-//eluceo/ical//2.0/EN
VERSION:2.0
CALSCALE:GREGORIAN
BEGIN:VEVENT
UID:54240d2398e351881d42feccd5488cde
DTSTAMP:20260422T045831Z
SUMMARY:Temple Beth Abraham Purim Community Celebration
DESCRIPTION:Jewish Federation of New Hampshire\nCommunity Calendar\nhttps:/
 /jewishnh.org/community-calendar/purim-community-celebration-1674676925\n\
 nJoin us to celebrate Purim with fun activities for all ages!
DTSTART;TZID=America/New_York:20230305T150000
DTEND;TZID=America/New_York:20230305T170000
END:VEVENT
END:VCALENDAR
