BEGIN:VCALENDAR
PRODID:-//eluceo/ical//2.0/EN
VERSION:2.0
CALSCALE:GREGORIAN
BEGIN:VEVENT
UID:c79d9cd279f8c6105d239d4f6f0a6211
DTSTAMP:20260423T021501Z
SUMMARY:Purim Family Dinner and Service
DESCRIPTION:Jewish Federation of New Hampshire\nCommunity Calendar\nhttps:/
 /jewishnh.org/community-calendar/purim-family-dinner-and-service-155146778
 7\n\nJoin us for a Purim celebration with all ages! At 6:00 p.m. there wil
 l be a light dinner\, followed by a family-friendly service. Young people 
 will chant and read selections from the Megillah\, the Scroll of Esther\, 
 in Hebrew and English. Sing Purim songs with the Raymond Street Klezmer Ba
 nd! Rabbi Jon has a video of Purim surprises to show as well. Come in cost
 ume and bring friends! The celebration will conclude around 7:30 p.m. Dinn
 er is free.
DTSTART;TZID=America/New_York:20190320T180000
DTEND;TZID=America/New_York:20190320T193000
END:VEVENT
END:VCALENDAR
