BEGIN:VCALENDAR
PRODID:-//eluceo/ical//2.0/EN
VERSION:2.0
CALSCALE:GREGORIAN
BEGIN:VEVENT
UID:01aac930eef886be570edbec1b249d8c
DTSTAMP:20260423T031452Z
SUMMARY:Seacoast Jewish Center presents Purim In CandyLand
DESCRIPTION:Jewish Federation of New Hampshire\nCommunity Calendar\nhttps:/
 /jewishnh.org/community-calendar/purim-in-candyland-1675152962\n\nThe Seac
 oast Jewish Center Presents\nPURIM IN CANDYLAND\nTuesday\, March 7th 4:30 
 pm\n- INTERACTIVE MEGILAH READING\n- PRIZES FOR ALL KIDS IN COSTUME\n- PUR
 IM BUFFET! HAMANTASHEN\n- CANDY BAR & PIÑATA\n- MUSIC AND DANCING!\nFUN F
 OR ALL AGES!\nFree of Charge\nRegister at\nJEWISHSEACOAST.COM/CANDY
DTSTART;TZID=America/New_York:20230307T163000
DTEND;TZID=America/New_York:20230307T183000
END:VEVENT
END:VCALENDAR
