BEGIN:VCALENDAR
PRODID:-//eluceo/ical//2.0/EN
VERSION:2.0
CALSCALE:GREGORIAN
BEGIN:VEVENT
UID:ca4163969fb73aee7407381d0fa81e0c
DTSTAMP:20260423T074550Z
SUMMARY:Purim in NYC! Magic Show! Community Celebration!
DESCRIPTION:Jewish Federation of New Hampshire\nCommunity Calendar\nhttps:/
 /jewishnh.org/community-calendar/purim-in-nyc-magic-show-community-celebra
 tion-1583296828\n\nThe Seacoast Jewish Center invites you to join us for a
  awesome Purim in NYC themed Celebration on Tuesday\, March 10th @ 5:30pm*
 * Interactive Megila Reading with a multi media presentation. ** NYC style
  Dinner ** MAGIC SHOW BY PHIL SMITH ** Streets artists ** Open Bar ** Hama
 ntashen & Purim treats ** Graggers & Purim fun ** Purim costumes ** Music 
 & lots more$18 Adult | $10 Child | $50 Max per family RSVP at Jewishseacoa
 st.com/PurimPartyFeel free to share and invite your friends to this event.
 ..
DTSTART;TZID=America/New_York:20200310T173000
DTEND;TZID=America/New_York:20200310T193000
END:VEVENT
END:VCALENDAR
