BEGIN:VCALENDAR
PRODID:-//eluceo/ical//2.0/EN
VERSION:2.0
CALSCALE:GREGORIAN
BEGIN:VEVENT
UID:de81a5a7ff9744ff6e7a3cf8c421088f
DTSTAMP:20260422T230008Z
SUMMARY:Purim Masquerade Ball
DESCRIPTION:Jewish Federation of New Hampshire\nCommunity Calendar\nhttps:/
 /jewishnh.org/community-calendar/purim-masquerade-ball-1551467933\n\nThe s
 ocial event of the season!\n\nJoin Sisterhood and the Southern NH Men's Cl
 ub for a Purim Ball!\n\nMusic by DJ Chris Brune\n\nDancing\, Appetizers\, 
 Drinks\, and Desserts (costumes optional)\n\nFestivities from 8:30pm - Mid
 night\n\nPlease RSVP by March 15
DTSTART;TZID=America/New_York:20190323T193000
DTEND;TZID=America/New_York:20190323T235000
END:VEVENT
END:VCALENDAR
