BEGIN:VCALENDAR
PRODID:-//eluceo/ical//2.0/EN
VERSION:2.0
CALSCALE:GREGORIAN
BEGIN:VEVENT
UID:4a47b72f6e1e3f025767642127dabcc5
DTSTAMP:20260423T194355Z
SUMMARY:Purim Masquerade Ball
DESCRIPTION:Jewish Federation of New Hampshire\nCommunity Calendar\nhttps:/
 /jewishnh.org/community-calendar/purim-masquerade-ball-1581357776\n\nThe S
 ocial Event of the 2020 Season!
DTSTART;TZID=America/New_York:20200307T190000
DTEND;TZID=America/New_York:20200307T230000
END:VEVENT
END:VCALENDAR
