BEGIN:VCALENDAR
PRODID:-//eluceo/ical//2.0/EN
VERSION:2.0
CALSCALE:GREGORIAN
BEGIN:VEVENT
UID:edffba562461e09641a239b7e248735b
DTSTAMP:20260423T101342Z
SUMMARY:Temple Adath Yeshurun Purim Megillah Reading
DESCRIPTION:Jewish Federation of New Hampshire\nCommunity Calendar\nhttps:/
 /jewishnh.org/community-calendar/purim-megillah-reading-1706822604\n\nCome
  join us as we read the Megillah!
DTSTART;TZID=America/New_York:20240323T190000
DTEND;TZID=America/New_York:20240323T210000
END:VEVENT
END:VCALENDAR
