BEGIN:VCALENDAR
PRODID:-//eluceo/ical//2.0/EN
VERSION:2.0
CALSCALE:GREGORIAN
BEGIN:VEVENT
UID:4ddcdbf56f2af2b8a6014867993ad414
DTSTAMP:20260423T005321Z
SUMMARY:Purim Megillah Reading and Celebration at Temple Beth Abraham
DESCRIPTION:Jewish Federation of New Hampshire\nCommunity Calendar\nhttps:/
 /jewishnh.org/community-calendar/purim-megillah-reading-and-celebration-at
 -temple-beth-abraham-1676488949\n\nCome to Temple Beth Abraham\, Nashua\, 
 NH\, or join by Zoom!\n\nNo charge and open to all!\n\n5:30 pm - Dinner (f
 ree)\n6:15 pm - Singing with Raymond Street Klezmer Band\n6:30 - 7:00 pm -
  Abbreviated Megillah Reading\n\nEveryone of all ages is welcome! Dress up
  and bring your ra'ashan/gragger (noisemaker)!\n\nRegister only if you pla
 n to come to dinner and enter any food allergies in the "notes" field.\n\n
 https://tbanashua.shulcloud.com/event/purim-megillah-reading-and-celebrati
 on.html
DTSTART;TZID=America/New_York:20230306T173000
DTEND;TZID=America/New_York:20230306T190000
END:VEVENT
END:VCALENDAR
